BEGIN:VCALENDAR
VERSION:2.0
PRODID:-//Jo Comerford - ECPv6.15.19//NONSGML v1.0//EN
CALSCALE:GREGORIAN
METHOD:PUBLISH
X-WR-CALNAME:Jo Comerford
X-ORIGINAL-URL:https://senatorjocomerford.org
X-WR-CALDESC:Events for Jo Comerford
REFRESH-INTERVAL;VALUE=DURATION:PT1H
X-Robots-Tag:noindex
X-PUBLISHED-TTL:PT1H
BEGIN:VTIMEZONE
TZID:America/New_York
BEGIN:DAYLIGHT
TZOFFSETFROM:-0500
TZOFFSETTO:-0400
TZNAME:EDT
DTSTART:20180311T070000
END:DAYLIGHT
BEGIN:STANDARD
TZOFFSETFROM:-0400
TZOFFSETTO:-0500
TZNAME:EST
DTSTART:20181104T060000
END:STANDARD
BEGIN:DAYLIGHT
TZOFFSETFROM:-0500
TZOFFSETTO:-0400
TZNAME:EDT
DTSTART:20190310T070000
END:DAYLIGHT
BEGIN:STANDARD
TZOFFSETFROM:-0400
TZOFFSETTO:-0500
TZNAME:EST
DTSTART:20191103T060000
END:STANDARD
BEGIN:DAYLIGHT
TZOFFSETFROM:-0500
TZOFFSETTO:-0400
TZNAME:EDT
DTSTART:20200308T070000
END:DAYLIGHT
BEGIN:STANDARD
TZOFFSETFROM:-0400
TZOFFSETTO:-0500
TZNAME:EST
DTSTART:20201101T060000
END:STANDARD
END:VTIMEZONE
BEGIN:VEVENT
DTSTART;TZID=America/New_York:20190322T060000
DTEND;TZID=America/New_York:20190322T080000
DTSTAMP:20260425T202603
CREATED:20190308T060117Z
LAST-MODIFIED:20190320T201503Z
UID:753-1553234400-1553241600@senatorjocomerford.org
SUMMARY:Joint Committee on Education Hearing
DESCRIPTION:Bill\nBill Title\nSponsor\n\n\n\n\nH.70 \nAn Act to promote equity and excellence in education\nCharles D. Baker\n\n\nH.576 \nAn Act relative to updating the education foundation budget\nPaul F. Tucker\n\n\nH.586 \nAn Act providing rightful opportunities and meaningful investment for successful and equitable education\nAaron Vega\n\n\nS.238 \nAn Act providing rightful opportunities and meaningful investment for successful and equitable education\nSonia Chang-Diaz\n\n\nH.578 \nAn Act establishing an education finance reform data advisory commission\nChynah Tyler\n\n\nH.502 \nAn Act relative to stakeholder data advisory group recommendations\nBradley H. Jones\, Jr.\n\n\nS.335 \nAn Act relative to the foundation budget review commission\nBruce E. Tarr\n\n\nH.500 \nAn Act relative to foundation budget review commission permanence\nBradley H. Jones\, Jr.\n\n\nH.497 \nAn Act relative to Chapter 70 funding\nBradley H. Jones\, Jr.\n\n\nH.449 \nAn Act relative to special education in the foundation budget\nKimberly N. Ferguson\n\n\nH.485 \nAn Act relative to implementing the recommendations of the foundation budget review commission\nBradford Hill\n\n\nH.562 \nAn Act strengthening public education in the Commonwealth\nJohn H. Rogers\n\n\nS.310 \nAn Act increasing the Commonwealth’s share of the education foundation budget\nJason M. Lewis\n\n\nS.308 \nAn Act relative to equity in education funding\nJason M. Lewis\n\n\nS.292 \nAn Act relative to school funding\nAnne M. Gobi\n\n\nH.423 \nAn Act establishing a gateway low income student trust fund\nClaire D. Cronin\n\n\nH.579 \nAn Act to establish the innovation demonstrating equity and achievement grant\nChynah Tyler
URL:https://senatorjocomerford.org/event/joint-committee-on-education-hearing/
LOCATION:Gardner Auditorium\, State House\, 24 Beacon Street\, Boston\, MA\, 02133\, United States
END:VEVENT
BEGIN:VEVENT
DTSTART;TZID=America/New_York:20190318T153000
DTEND;TZID=America/New_York:20190318T164500
DTSTAMP:20260425T202603
CREATED:20190308T055457Z
LAST-MODIFIED:20190308T055457Z
UID:750-1552923000-1552927500@senatorjocomerford.org
SUMMARY:Indivisible Northampton & Pioneer Valley Resist Coalition meeting feat. Sen. Comerford
DESCRIPTION:
URL:https://senatorjocomerford.org/event/indivisible-northampton-pioneer-valley-resist-coalition-meeting-feat-sen-comerford/
LOCATION:Pathways Cohousing\, 25 Mountain Laurel Path\, Florence\, MA\, 01062\, United States
END:VEVENT
BEGIN:VEVENT
DTSTART;TZID=America/New_York:20190318T080000
DTEND;TZID=America/New_York:20190318T090000
DTSTAMP:20260425T202603
CREATED:20190312T204441Z
LAST-MODIFIED:20190312T204441Z
UID:941-1552896000-1552899600@senatorjocomerford.org
SUMMARY:March Academy Teach-in: Civil & Human Rights (Webinar)
DESCRIPTION:An Act relative to gender identity on Massachusetts identification legislation \nAn Act advancing health equity \nAn Act prohibiting non-consensual pelvic examinations \nAn Act relative to protecting LGBTQ victims \nAn Act establishing gender neutral bathrooms \nAn Act prohibiting the use of Native American mascots by public schools in the Commonwealth \nAn Act establishing the Massachusetts foster care review office\nPlus key co-sponsored legislation\n\n\nLink to join webinar:\nhttps://us04web.zoom.us/j/818487393 \nPhone number to call in:\n(929) 436-2866 \nWebinar ID:\n818-487-393
URL:https://senatorjocomerford.org/event/march-academy-teach-in-civil-human-rights/
END:VEVENT
BEGIN:VEVENT
DTSTART;TZID=America/New_York:20190315T110000
DTEND;TZID=America/New_York:20190315T114500
DTSTAMP:20260425T202603
CREATED:20190308T071827Z
LAST-MODIFIED:20190322T223342Z
UID:776-1552647600-1552650300@senatorjocomerford.org
SUMMARY:Legislator Listening Sessions:  Listening Session 3
DESCRIPTION:
URL:https://senatorjocomerford.org/event/legislator-listening-sessions-listening-session-3-2/
LOCATION:Jones Library\, 43 Amity Street\, Amherst\, MA\, 01002
END:VEVENT
BEGIN:VEVENT
DTSTART;TZID=America/New_York:20190315T100000
DTEND;TZID=America/New_York:20190315T104500
DTSTAMP:20260425T202603
CREATED:20190308T071753Z
LAST-MODIFIED:20190322T223245Z
UID:775-1552644000-1552646700@senatorjocomerford.org
SUMMARY:Legislator Listening Sessions:  Listening Session 2
DESCRIPTION:
URL:https://senatorjocomerford.org/event/legislator-listening-sessions-listening-session-2-2/
LOCATION:Jones Library\, 43 Amity Street\, Amherst\, MA\, 01002
END:VEVENT
BEGIN:VEVENT
DTSTART;TZID=America/New_York:20190315T090000
DTEND;TZID=America/New_York:20190315T094500
DTSTAMP:20260425T202603
CREATED:20190308T071617Z
LAST-MODIFIED:20190322T223255Z
UID:774-1552640400-1552643100@senatorjocomerford.org
SUMMARY:Legislator Listening Sessions:  Listening Session 1
DESCRIPTION:
URL:https://senatorjocomerford.org/event/legislator-listening-sessions-listening-session-1/
LOCATION:Jones Library\, 43 Amity Street\, Amherst\, MA\, 01002
END:VEVENT
BEGIN:VEVENT
DTSTART;TZID=America/New_York:20190313T140000
DTEND;TZID=America/New_York:20190313T144500
DTSTAMP:20260425T202603
CREATED:20190308T074741Z
LAST-MODIFIED:20190308T080509Z
UID:799-1552485600-1552488300@senatorjocomerford.org
SUMMARY:March Academy Teach-in: Regional development\, agriculture & economic equity (Webinar)
DESCRIPTION:An Act improving the earned income credit for working families\nAn Act identifying corporate irresponsibility\nAn Act supporting farming on non-contiguous land\nResolve establishing a special commission to foster greater opportunities for skilled immigrants in the Commonwealth\nAn Act providing for coordinated data and assistance to address family homelessness\nAn Act providing for timely reimbursement of cities and towns for veterans’ benefits\nPlus key co-sponsored legislation\n\nLink to join webinar:\nhttps://us04web.zoom.us/j/921123883 \nPhone number to call in:\n(929) 436-2866 \nWebinar ID:\n921-123-883
URL:https://senatorjocomerford.org/event/march-academy-teach-in-regional-development-agriculture-economic-equity/
END:VEVENT
BEGIN:VEVENT
DTSTART;TZID=America/New_York:20190312T080000
DTEND;TZID=America/New_York:20190312T084500
DTSTAMP:20260425T202603
CREATED:20190308T075928Z
LAST-MODIFIED:20190308T080450Z
UID:808-1552377600-1552380300@senatorjocomerford.org
SUMMARY:March Academy Teach-in: Energy & environment (Webinar)
DESCRIPTION:An Act establishing a net zero stretch energy code \nAn Act requiring public interest considerations in gas infrastructure expansion proceedings \nAn Act promoting local energy investment and infrastructure modernization \nAn Act to Protect Ratepayers \nAn Act to examine the feasibility of rail service between North Adams\, Greenfield and Boston \nAn Act to promote healthy soils and agricultural innovation within the Commonwealth \nPlus key co-sponsored legislation\n\nLink to join webinar:\nhttps://us04web.zoom.us/j/313402410 \nPhone number to call in:\n(929) 436-2866 \nWebinar ID:\n313-402-410
URL:https://senatorjocomerford.org/event/march-academy-teach-in-energy-environment/
END:VEVENT
BEGIN:VEVENT
DTSTART;TZID=America/New_York:20190311T050000
DTEND;TZID=America/New_York:20190311T100000
DTSTAMP:20260425T202603
CREATED:20190216T014631Z
LAST-MODIFIED:20190326T204755Z
UID:378-1552280400-1552298400@senatorjocomerford.org
SUMMARY:The People's Office Hours - Greenfield with Rep. Mark
DESCRIPTION:Senator Comerford’s team seeks to be as accessible to our constituents as possible in a district of 24 cities and towns in three counties. In addition to our availability to attend meetings and events\, and to schedule individual meetings with constituents\, District Director Elena Cohen\, District Aide Sam Hopper\, and Jo will be holding regular office hours throughout the district. \nPublic Transit Options to People’s Office Hours \nGCC Downtown is accessible by bus: 20\, 21\, 22\, 23\, 24\, 31\, 32\, 41
URL:https://senatorjocomerford.org/event/office-hours-greenfield-with-rep-mark/
LOCATION:Greenfield – GCC Downtown\, 270 Main Street\, Greenfield\, MA\, 01301
END:VEVENT
BEGIN:VEVENT
DTSTART;TZID=America/New_York:20190310T120000
DTEND;TZID=America/New_York:20190310T124500
DTSTAMP:20260425T202603
CREATED:20190308T075929Z
LAST-MODIFIED:20190308T080435Z
UID:807-1552219200-1552221900@senatorjocomerford.org
SUMMARY:March Academy Teach-in: The role of state government in 2019 (Webinar)
DESCRIPTION:How it all works: Legislation\, Committees\, Budget\, Amendments\, Caucuses\, and more.\nWhat your Senate office is doing: Constituent services\, work with municipalities\, and more.\n\nLink to join webinar:\nhttps://us04web.zoom.us/j/650572418 \nPhone number to call in:\n(929) 436-2866 \nWebinar ID:\n650-572-418
URL:https://senatorjocomerford.org/event/march-academy-teach-in-the-role-of-state-government-in-2019/
END:VEVENT
BEGIN:VEVENT
DTSTART;TZID=America/New_York:20190306T130000
DTEND;TZID=America/New_York:20190306T134500
DTSTAMP:20260425T202603
CREATED:20190308T075931Z
LAST-MODIFIED:20190308T080420Z
UID:806-1551877200-1551879900@senatorjocomerford.org
SUMMARY:March Academy Teach-in: Health care (Webinar)
DESCRIPTION:An Act advancing public health and safety using fentanyl testing strips \nAn Act expanding care for medically underserved areas of the Commonwealth \nAn Act allowing spouses to serve as caregivers\nAn Act authorizing telemedicine services \nAn Act relative to the continuity of care of mental health treatment \nAn Act supporting equal access to community care for elders and the disabled \nAn Act improving access to dental care in the Commonwealth \nPlus key co-sponsored legislation\n\nLink to join webinar:\nhttps://us04web.zoom.us/j/933240978 \nPhone number to call in:\n(929) 436-2866 \nWebinar ID:\n933-240-978
URL:https://senatorjocomerford.org/event/march-academy-teach-in-health-care/
END:VEVENT
BEGIN:VEVENT
DTSTART;TZID=America/New_York:20190304T070000
DTEND;TZID=America/New_York:20190304T074500
DTSTAMP:20260425T202603
CREATED:20190308T075933Z
LAST-MODIFIED:20190308T080404Z
UID:805-1551682800-1551685500@senatorjocomerford.org
SUMMARY:March Academy Teach-in: Education (Webinar)
DESCRIPTION:Cherish Act\nAn Act evaluating additional educational assistance to school districts with low or declining enrollment \nAn Act ensuring best practice incentives are available for all school building projects \nAn Act adding a suicide prevention hotline number on student identification cards \nPlus key co-sponsored legislation\n\nLink to join webinar:\nhttps://us04web.zoom.us/j/210690681 \nPhone number to call in:\n(929) 436-2866 \nWebinar ID:\n210-690-681
URL:https://senatorjocomerford.org/event/march-academy-teach-in-education/
END:VEVENT
BEGIN:VEVENT
DTSTART;TZID=America/New_York:20190302T050000
DTEND;TZID=America/New_York:20190302T090000
DTSTAMP:20260425T202603
CREATED:20190216T014518Z
LAST-MODIFIED:20190326T204812Z
UID:376-1551502800-1551517200@senatorjocomerford.org
SUMMARY:The People's Office Hours - Hadley
DESCRIPTION:Senator Comerford’s team seeks to be as accessible to our constituents as possible in a district of 24 cities and towns in three counties. In addition to our availability to attend meetings and events\, and to schedule individual meetings with constituents\, District Director Elena Cohen\, District Aide Sam Hopper\, and Jo will be holding regular office hours throughout the district. \nPublic Transit Options to People’s Office Hours \nHampshire Mall is accessible by bus: 39\, B43
URL:https://senatorjocomerford.org/event/office-hours-hadley/
LOCATION:Hadley – Target at the Hampshire Mall\, 367 Russell Street\, Hadley\, MA\, 01035
END:VEVENT
BEGIN:VEVENT
DTSTART;TZID=America/New_York:20190227T060000
DTEND;TZID=America/New_York:20190227T090000
DTSTAMP:20260425T202603
CREATED:20190216T014428Z
LAST-MODIFIED:20190326T204846Z
UID:374-1551247200-1551258000@senatorjocomerford.org
SUMMARY:The People's Office Hours - Amherst
DESCRIPTION:Senator Comerford’s team seeks to be as accessible to our constituents as possible in a district of 24 cities and towns in three counties. In addition to our availability to attend meetings and events\, and to schedule individual meetings with constituents\, District Director Elena Cohen\, District Aide Sam Hopper\, and Jo will be holding regular office hours throughout the district. \nPublic Transit Options to People’s Office Hours \nJones Library is accessible by bus: R29\, 30\, 33\, 36\, 38\, B43\, 45
URL:https://senatorjocomerford.org/event/office-hours-amherst/
LOCATION:Jones Library\, 43 Amity Street\, Amherst\, MA\, 01002
END:VEVENT
BEGIN:VEVENT
DTSTART;TZID=America/New_York:20190223T040000
DTEND;TZID=America/New_York:20190223T090000
DTSTAMP:20260425T202603
CREATED:20190216T014338Z
LAST-MODIFIED:20190326T204914Z
UID:372-1550894400-1550912400@senatorjocomerford.org
SUMMARY:The People's Office Hours - Northampton\, with Rep. Sabadosa
DESCRIPTION:Senator Comerford’s team seeks to be as accessible to our constituents as possible in a district of 24 cities and towns in three counties. In addition to our availability to attend meetings and events\, and to schedule individual meetings with constituents\, District Director Elena Cohen\, District Aide Sam Hopper\, and Jo will be holding regular office hours throughout the district. \nPublic Transit Options to People’s Office Hours \nNorthampton Senior Center is accessible by bus: B48\, R42\, R44
URL:https://senatorjocomerford.org/event/office-hours-northampton-with-rep-sabadosa/
LOCATION:Northampton – Senior Center\, 67 Conz Street\, Northampton\, MA\, 01060
END:VEVENT
BEGIN:VEVENT
DTSTART;TZID=America/New_York:20190215T100000
DTEND;TZID=America/New_York:20190215T104500
DTSTAMP:20260425T202603
CREATED:20190308T071441Z
LAST-MODIFIED:20190322T223303Z
UID:772-1550224800-1550227500@senatorjocomerford.org
SUMMARY:Legislator Listening Sessions:  Listening Session 3
DESCRIPTION:
URL:https://senatorjocomerford.org/event/legislator-listening-sessions-listening-session-3/
LOCATION:Sunderland Public Library\, 20 School St.\, Sunderland\, MA\, 01375\, United States
END:VEVENT
BEGIN:VEVENT
DTSTART;TZID=America/New_York:20190215T090000
DTEND;TZID=America/New_York:20190215T094500
DTSTAMP:20260425T202603
CREATED:20190308T071351Z
LAST-MODIFIED:20190322T223314Z
UID:770-1550221200-1550223900@senatorjocomerford.org
SUMMARY:Legislator Listening Sessions:  Listening Session 2
DESCRIPTION:
URL:https://senatorjocomerford.org/event/legislator-listening-sessions-listening-session-2/
LOCATION:Sunderland Public Library\, 20 School St.\, Sunderland\, MA\, 01375\, United States
END:VEVENT
BEGIN:VEVENT
DTSTART;TZID=America/New_York:20190215T080000
DTEND;TZID=America/New_York:20190215T084500
DTSTAMP:20260425T202603
CREATED:20190308T070554Z
LAST-MODIFIED:20191125T145046Z
UID:765-1550217600-1550220300@senatorjocomerford.org
SUMMARY:Legislator Listening Sessions:  Listening Session 1
DESCRIPTION:
URL:https://senatorjocomerford.org/event/legislator-listening-sessions-listening-session-2-4/
LOCATION:Sunderland Public Library\, 20 School St.\, Sunderland\, MA\, 01375\, United States
END:VEVENT
BEGIN:VEVENT
DTSTART;TZID=America/New_York:20190215T060000
DTEND;TZID=America/New_York:20190215T090000
DTSTAMP:20260425T202603
CREATED:20190216T014037Z
LAST-MODIFIED:20190326T204929Z
UID:366-1550210400-1550221200@senatorjocomerford.org
SUMMARY:The People's Office Hours - Orange
DESCRIPTION:Senator Comerford’s team seeks to be as accessible to our constituents as possible in a district of 24 cities and towns in three counties. In addition to our availability to attend meetings and events\, and to schedule individual meetings with constituents\, District Director Elena Cohen\, District Aide Sam Hopper\, and Jo will be holding regular office hours throughout the district. \nPublic Transit Options to People’s Office Hours \nQuabbin Mediation is accessible by bus: 32\, Athol/Orange Shuttles #1 and #2
URL:https://senatorjocomerford.org/event/office-hours-2019-02-15/
LOCATION:Orange – Quabbin Mediation\, 13 South Main Street\, Orange\, MA\, 01364
END:VEVENT
BEGIN:VEVENT
DTSTART;TZID=America/New_York:20190202T050000
DTEND;TZID=America/New_York:20190202T080000
DTSTAMP:20260425T202603
CREATED:20190308T055146Z
LAST-MODIFIED:20190326T204956Z
UID:747-1549083600-1549094400@senatorjocomerford.org
SUMMARY:The People's Office Hours - Greenfield with Rep. Mark
DESCRIPTION:Senator Comerford’s team seeks to be as accessible to our constituents as possible in a district of 24 cities and towns in three counties. In addition to our availability to attend meetings and events\, and to schedule individual meetings with constituents\, District Director Elena Cohen\, District Aide Sam Hopper\, and Jo will be holding regular office hours throughout the district. \nPublic Transit Options to People’s Office Hours\nFour Corners Elementary School is accessible by bus: 21\, 23\, 24
URL:https://senatorjocomerford.org/event/the-peoples-office-hours-greenfield-with-rep-mark/
LOCATION:Greenfield – Four Corners Elementary School\, 21 Ferrante Avenue\, Greenfield\, MA\, 01301
END:VEVENT
END:VCALENDAR